BEGIN:VCALENDAR
VERSION:2.0
PRODID:-//OAMZ - ECPv6.15.20//NONSGML v1.0//EN
CALSCALE:GREGORIAN
METHOD:PUBLISH
X-ORIGINAL-URL:https://oamz.de
X-WR-CALDESC:Veranstaltungen für OAMZ
REFRESH-INTERVAL;VALUE=DURATION:PT1H
X-Robots-Tag:noindex
X-PUBLISHED-TTL:PT1H
BEGIN:VTIMEZONE
TZID:Europe/Berlin
BEGIN:DAYLIGHT
TZOFFSETFROM:+0100
TZOFFSETTO:+0200
TZNAME:CEST
DTSTART:20240331T010000
END:DAYLIGHT
BEGIN:STANDARD
TZOFFSETFROM:+0200
TZOFFSETTO:+0100
TZNAME:CET
DTSTART:20241027T010000
END:STANDARD
BEGIN:DAYLIGHT
TZOFFSETFROM:+0100
TZOFFSETTO:+0200
TZNAME:CEST
DTSTART:20250330T010000
END:DAYLIGHT
BEGIN:STANDARD
TZOFFSETFROM:+0200
TZOFFSETTO:+0100
TZNAME:CET
DTSTART:20251026T010000
END:STANDARD
BEGIN:DAYLIGHT
TZOFFSETFROM:+0100
TZOFFSETTO:+0200
TZNAME:CEST
DTSTART:20260329T010000
END:DAYLIGHT
BEGIN:STANDARD
TZOFFSETFROM:+0200
TZOFFSETTO:+0100
TZNAME:CET
DTSTART:20261025T010000
END:STANDARD
END:VTIMEZONE
BEGIN:VEVENT
DTSTART;TZID=Europe/Berlin:20251002T190000
DTEND;TZID=Europe/Berlin:20251002T210000
DTSTAMP:20260423T103550
CREATED:20250929T080531Z
LAST-MODIFIED:20250929T080531Z
UID:10001230-1759431600-1759438800@oamz.de
SUMMARY:Gebet für Mainz – Jesus im Mittelpunkt
DESCRIPTION:Wir beten gemeinsam für unsere Stadt und proklamieren Gottes Pläne für Mainz.\nTreffpunkt: Mainzer Stadtmission
URL:https://oamz.de/termin/gebet-fuer-mainz-jesus-im-mittelpunkt-3/
LOCATION:Stadtmission Mainz\, Am Kronberger Hof 4\, 55116 Mainz
CATEGORIES:Gebet
ORGANIZER;CN="Milagros Huamani":MAILTO:gfm@oamz.de
END:VEVENT
BEGIN:VEVENT
DTSTART;TZID=Europe/Berlin:20250526T190000
DTEND;TZID=Europe/Berlin:20250526T210000
DTSTAMP:20260423T103550
CREATED:20250414T113819Z
LAST-MODIFIED:20250507T083650Z
UID:10000917-1748286000-1748293200@oamz.de
SUMMARY:Gebet für Mainz – Jesus im Mittelpunkt
DESCRIPTION:Wir beten gemeinsam für unsere Stadt und proklamieren Gottes Pläne für Mainz.\nTreffpunkt: Kaiserstraße im Park (vor dem Standesamt)
URL:https://oamz.de/termin/gebet-fuer-mainz-jesus-im-mittelpunkt-4/
CATEGORIES:Gebet
ORGANIZER;CN="Milagros Huamani":MAILTO:gfm@oamz.de
END:VEVENT
BEGIN:VEVENT
DTSTART;TZID=Europe/Berlin:20250324T190000
DTEND;TZID=Europe/Berlin:20250324T210000
DTSTAMP:20260423T103550
CREATED:20250302T125321Z
LAST-MODIFIED:20250311T081644Z
UID:10000690-1742842800-1742850000@oamz.de
SUMMARY:Gebet für Mainz – Jesus im Mittelpunkt
DESCRIPTION:Treffpunkt wird noch bekanntgegeben. Wir beten gemeinsam für unsere Stadt und proklamieren Gottes Pläne für Mainz.
URL:https://oamz.de/termin/gebet-fuer-mainz-jesus-im-mittelpunkt-2/
LOCATION:edenRoom\, Steingasse 24\,\, Mainz\, 55116
CATEGORIES:Gebet
ORGANIZER;CN="Milagros Huamani":MAILTO:gfm@oamz.de
END:VEVENT
BEGIN:VEVENT
DTSTART;TZID=Europe/Berlin:20250224T190000
DTEND;TZID=Europe/Berlin:20250224T200000
DTSTAMP:20260423T103550
CREATED:20250202T125005Z
LAST-MODIFIED:20250217T083223Z
UID:10000680-1740423600-1740427200@oamz.de
SUMMARY:Gebet für Mainz – Jesus im Mittelpunkt
DESCRIPTION:Treffpunkt vor dem Landtag. Wir beten gemeinsam für unsere Stadt und proklamieren Gottes Pläne für Mainz vor dem Landtag. Das “Gebet für Mainz – Jesus im Mittelpunkt“ wird einmal im Monat stattfinden.
URL:https://oamz.de/termin/gebet-fuer-mainz-jesus-im-mittelpunkt/
CATEGORIES:Gebet
ORGANIZER;CN="Milagros Huamani":MAILTO:gfm@oamz.de
END:VEVENT
END:VCALENDAR